BEGIN:VCALENDAR
VERSION:2.0
PRODID:-//Healthy People Healthy Trails - ECPv6.10.1.1//NONSGML v1.0//EN
CALSCALE:GREGORIAN
METHOD:PUBLISH
X-WR-CALNAME:Healthy People Healthy Trails
X-ORIGINAL-URL:https://healthypeoplehealthytrails.org
X-WR-CALDESC:Events for Healthy People Healthy Trails
REFRESH-INTERVAL;VALUE=DURATION:PT1H
X-Robots-Tag:noindex
X-PUBLISHED-TTL:PT1H
BEGIN:VTIMEZONE
TZID:America/Los_Angeles
BEGIN:DAYLIGHT
TZOFFSETFROM:-0800
TZOFFSETTO:-0700
TZNAME:PDT
DTSTART:20240310T100000
END:DAYLIGHT
BEGIN:STANDARD
TZOFFSETFROM:-0700
TZOFFSETTO:-0800
TZNAME:PST
DTSTART:20241103T090000
END:STANDARD
END:VTIMEZONE
BEGIN:VEVENT
DTSTART;TZID=America/Los_Angeles:20241213T083000
DTEND;TZID=America/Los_Angeles:20241213T103000
DTSTAMP:20260421T013930
CREATED:20241123T104301Z
LAST-MODIFIED:20241214T075210Z
UID:6239-1734078600-1734085800@healthypeoplehealthytrails.org
SUMMARY:Friday Bird Walk – Santa Barbara Harbor
DESCRIPTION:Target Birds: \n\nWaterfowl\nshorebirds\nPeregrine Falcon\nsongbirds\n& others\n\n \nOther Information: \n\nBring water\, snack\nWear comfortable shoes\nBring a hat\nBinoculars a must\, spotting scopes are useful
URL:https://healthypeoplehealthytrails.org/event/friday-bird-walk-elings-park-1/
LOCATION:132-A Harbor Way\, Santa Barbara\, CA 93109\, 132-A Harbor Way\, Santa Barbara\, CA 93109\, United States
CATEGORIES:Bird Walk
ATTACH;FMTTYPE=image/jpeg:https://healthypeoplehealthytrails.org/wp-content/uploads/2017/09/bbb5450a-c3d7-4ba2-acc4-29a816096380.jpg
ORGANIZER;CN="Karl Weis":MAILTO:karljweis@gmail.com
END:VEVENT
END:VCALENDAR