BEGIN:VCALENDAR
VERSION:2.0
PRODID:-//Healthy People Healthy Trails - ECPv6.10.1.1//NONSGML v1.0//EN
CALSCALE:GREGORIAN
METHOD:PUBLISH
X-WR-CALNAME:Healthy People Healthy Trails
X-ORIGINAL-URL:https://healthypeoplehealthytrails.org
X-WR-CALDESC:Events for Healthy People Healthy Trails
REFRESH-INTERVAL;VALUE=DURATION:PT1H
X-Robots-Tag:noindex
X-PUBLISHED-TTL:PT1H
BEGIN:VTIMEZONE
TZID:America/Los_Angeles
BEGIN:DAYLIGHT
TZOFFSETFROM:-0800
TZOFFSETTO:-0700
TZNAME:PDT
DTSTART:20240310T100000
END:DAYLIGHT
BEGIN:STANDARD
TZOFFSETFROM:-0700
TZOFFSETTO:-0800
TZNAME:PST
DTSTART:20241103T090000
END:STANDARD
END:VTIMEZONE
BEGIN:VEVENT
DTSTART;TZID=America/Los_Angeles:20240629T120000
DTEND;TZID=America/Los_Angeles:20240629T140000
DTSTAMP:20260423T130359
CREATED:20240606T134556Z
LAST-MODIFIED:20240630T065427Z
UID:5805-1719662400-1719669600@healthypeoplehealthytrails.org
SUMMARY:Hike With Hart @ North Campus Open Space
DESCRIPTION:The event allows constituents to connect with Assemblymember Hart while appreciating one of the many remarkable trails in Santa Barbara County. All community members are invited to participate in this nature walk with Assemblymember Hart. \n \nSaturday\, June 29 \n12 – 2 p.m. \nUCSB North Campus Open Space \n6969 Whittier Drive\, Goleta\, CA 93117 \n \nRSVP Online \n \nParking is available in the lot next to the trailhead. If no parking is available in the lot\, substantial street parking should be available adjacent to the trail. \n \nQuestions? Contact Gunnar.Langenhuizen@asm.ca.gov. \n \nThe event will take roughly two hours and require about a mile of easy walking.
URL:https://healthypeoplehealthytrails.org/event/hike-with-hart-1/
LOCATION:6969 Whittier Drive  Goleta\, CA 93117\, 6969 Whittier Drive  Goleta\, CA 93117\, United States
CATEGORIES:Nature Walk
ATTACH;FMTTYPE=image/jpeg:https://healthypeoplehealthytrails.org/wp-content/uploads/2018/04/9d1bf751-1ca8-4cfb-9661-cfe0c98a4fe4.jpg
ORGANIZER;CN="Mark Wilkinson":MAILTO:explore@sbtrails.org
END:VEVENT
END:VCALENDAR