BEGIN:VCALENDAR
VERSION:2.0
PRODID:-//Healthy People Healthy Trails - ECPv6.10.1.1//NONSGML v1.0//EN
CALSCALE:GREGORIAN
METHOD:PUBLISH
X-WR-CALNAME:Healthy People Healthy Trails
X-ORIGINAL-URL:https://healthypeoplehealthytrails.org
X-WR-CALDESC:Events for Healthy People Healthy Trails
REFRESH-INTERVAL;VALUE=DURATION:PT1H
X-Robots-Tag:noindex
X-PUBLISHED-TTL:PT1H
BEGIN:VTIMEZONE
TZID:America/Los_Angeles
BEGIN:DAYLIGHT
TZOFFSETFROM:-0800
TZOFFSETTO:-0700
TZNAME:PDT
DTSTART:20240310T100000
END:DAYLIGHT
BEGIN:STANDARD
TZOFFSETFROM:-0700
TZOFFSETTO:-0800
TZNAME:PST
DTSTART:20241103T090000
END:STANDARD
END:VTIMEZONE
BEGIN:VEVENT
DTSTART;TZID=America/Los_Angeles:20240406T090000
DTEND;TZID=America/Los_Angeles:20240406T110000
DTSTAMP:20260423T130352
CREATED:20240327T131544Z
LAST-MODIFIED:20240407T065319Z
UID:5477-1712394000-1712401200@healthypeoplehealthytrails.org
SUMMARY:Hike With Hart
DESCRIPTION:We will have a guided tour of the historic Santa Inés Mission Mills complex after the walk. The host at the Mills will be Mike Imwalle\, Associate Executive Director of Cultural Resources for the Santa Barbara Trust for Historic Preservation\, who manages the Mission Mills on behalf of California State Parks. \n \nThe beautiful 39 acres of land adjacent to Mission Santa Inés is part of the Mission Santa Inés National Historic Landmark District and includes historic grist and fulling mills and their reservoirs. The State of California purchased the complex from the Trust to create a new State Park. It will be the first to interpret the industrial dimension of the history of the California Missions; for more information about the Trust and the Mission Mills project\, visit http://www.sbthp.org. \n \nWe will gather at 8:45 am near 460 Alamo Pintado Road. Parking is curbside. The event will take roughly two hours and require about a mile of easy walking.
URL:https://healthypeoplehealthytrails.org/event/hike-with-hart/
LOCATION:460 Alamo Pintado Rd · Solvang\, CA\, 460 Alamo Pintado Rd · Solvang\, CA\, United States
CATEGORIES:Nature Walk
ATTACH;FMTTYPE=image/jpeg:https://healthypeoplehealthytrails.org/wp-content/uploads/2018/04/9d1bf751-1ca8-4cfb-9661-cfe0c98a4fe4.jpg
ORGANIZER;CN="Mark Wilkinson":MAILTO:explore@sbtrails.org
END:VEVENT
END:VCALENDAR