BEGIN:VCALENDAR
VERSION:2.0
PRODID:-//Healthy People Healthy Trails - ECPv6.10.1.1//NONSGML v1.0//EN
CALSCALE:GREGORIAN
METHOD:PUBLISH
X-WR-CALNAME:Healthy People Healthy Trails
X-ORIGINAL-URL:https://healthypeoplehealthytrails.org
X-WR-CALDESC:Events for Healthy People Healthy Trails
REFRESH-INTERVAL;VALUE=DURATION:PT1H
X-Robots-Tag:noindex
X-PUBLISHED-TTL:PT1H
BEGIN:VTIMEZONE
TZID:America/Los_Angeles
BEGIN:DAYLIGHT
TZOFFSETFROM:-0800
TZOFFSETTO:-0700
TZNAME:PDT
DTSTART:20250309T100000
END:DAYLIGHT
BEGIN:STANDARD
TZOFFSETFROM:-0700
TZOFFSETTO:-0800
TZNAME:PST
DTSTART:20251102T090000
END:STANDARD
END:VTIMEZONE
BEGIN:VEVENT
DTSTART;TZID=America/Los_Angeles:20250504T100000
DTEND;TZID=America/Los_Angeles:20250504T130000
DTSTAMP:20260423T130231
CREATED:20250503T074142Z
LAST-MODIFIED:20250503T075233Z
UID:7292-1746352800-1746363600@healthypeoplehealthytrails.org
SUMMARY:Lover's Loop at Midland School Trails
DESCRIPTION:We’re pleased to invite you to hike Lover’s Loop at Midland School Trails\, hosted by the Santa Barbara County Trails Council. Over the next few weeks\, our crew will be working on trail maintenance in the Midland School system\, and we hope you’ll join us to both enjoy and support these beautiful paths. on our hike\, we’ll wind through sunny hillsides dotted with wildflowers and shaded oak groves\, all with expansive views of the surrounding countryside. \nDistance: ~4 miles\nElevation Gain: ~750 feet\nDifficulty: Moderate \nTrail Map: Midland School Trails Map\nAllTrails Link: Lover’s Loop via Grass Mountain Trail \nTrailhead: Figueroa Mountain Rd\, Santa Ynez\, CA 93460   We will meet at the trailhead kiosk. 34.74182\, -120.06195 \nTo reach the Grass Mountain Trailhead from Santa Barbara\, start by taking Highway 154 north over San Marcos Pass. Continue for approximately 14.6 miles until you arrive at the town of Los Olivos\, where you’ll turn right onto Figueroa Mountain Road. Proceed for about 5 miles\, passing Midland School on your right. The trailhead is located 1.7 miles past the school’s entrance at 34.74182\, -120.06195. \nThe group will meet at the trailhead at 10:00 AM to ensure a prompt start. Please be punctual to respect everyone’s time. Please dress appropriately with hiking boots/shoes and comfortable clothes meant to get sweaty and possibly wet. We recommend 1-3L water bladder in a backpack depending upon trail difficulty so that your hands are free to cross water or scramble up/down rocks. \nNote: Rain or low attendance cancels the hike. \nGroup organizers assume no liability; hike at your own risk. By participating in this hike\, you agree to assume all risks and liability related to or resulting from this activity. Neither the group’s leaders nor any third party will be held liable for any injury\, loss\, or damage that may occur. Participation is based on an “at will” basis. \nWe’re lucky to have access to such stunning trails\, but keeping them safe and accessible takes effort. Consider supporting the Santa Barbara County Trails Council by volunteering or becoming a member:\nJoin the SB Trails Council \nOr contribute to their Midland School Trail fund:\nDonate to the Trail Fund \nYour support helps maintain and protect the beautiful outdoor spaces we love.
URL:https://healthypeoplehealthytrails.org/event/lovers-loop/
LOCATION:Midland School Trails\, Midland School High Country Loop\, United States
CATEGORIES:Hike - Moderate
ATTACH;FMTTYPE=image/jpeg:https://healthypeoplehealthytrails.org/wp-content/uploads/2025/03/santa-barbara-county-trails-council.jpg
ORGANIZER;CN="Mark Wilkinson":MAILTO:explore@sbtrails.org
GEO:34.74182;-120.06195
X-APPLE-STRUCTURED-LOCATION;VALUE=URI;X-ADDRESS=Midland School Trails Midland School High Country Loop United States;X-APPLE-RADIUS=500;X-TITLE=Midland School High Country Loop:geo:-120.06195,34.74182
END:VEVENT
END:VCALENDAR