BEGIN:VCALENDAR
VERSION:2.0
PRODID:-//Healthy People Healthy Trails - ECPv6.10.1.1//NONSGML v1.0//EN
CALSCALE:GREGORIAN
METHOD:PUBLISH
X-WR-CALNAME:Healthy People Healthy Trails
X-ORIGINAL-URL:https://healthypeoplehealthytrails.org
X-WR-CALDESC:Events for Healthy People Healthy Trails
REFRESH-INTERVAL;VALUE=DURATION:PT1H
X-Robots-Tag:noindex
X-PUBLISHED-TTL:PT1H
BEGIN:VTIMEZONE
TZID:America/Los_Angeles
BEGIN:DAYLIGHT
TZOFFSETFROM:-0800
TZOFFSETTO:-0700
TZNAME:PDT
DTSTART:20250309T100000
END:DAYLIGHT
BEGIN:STANDARD
TZOFFSETFROM:-0700
TZOFFSETTO:-0800
TZNAME:PST
DTSTART:20251102T090000
END:STANDARD
END:VTIMEZONE
BEGIN:VEVENT
DTSTART;TZID=America/Los_Angeles:20250222T090000
DTEND;TZID=America/Los_Angeles:20250222T133000
DTSTAMP:20260423T131810
CREATED:20250217T215401Z
LAST-MODIFIED:20250220T155209Z
UID:6506-1740214800-1740231000@healthypeoplehealthytrails.org
SUMMARY:Gaviota Peak Saturday Morning Hike with Riley
DESCRIPTION:The Santa Barbara County Trails Council has officially launched the 5 Peaks Challenge for 2025\, and this hike is the perfect opportunity to check another peak off your list. Rising over the largely undeveloped Gaviota coastline\, Gaviota Peak offers some of the best views in Santa Barbara County. The route will take us along the Trespass and Tunnel View trails\, rewarding us with incredible views of the ocean\, mountains\, canyons\, and Channel Islands. We’ll hike a 6.2-mile loop from the Gaviota Hot Springs/Gaviota Peak Trailhead. \nSign Up for the 5 Peaks Challenge Here: https://bit.ly/5PeaksChallenge \nDetails:\nDistance ~ 6.2mi\nAscent – 2\,178 ft\nDifficulty – Moderate to strenuous\nRestrictions – No dogs allowed at Gaviota State Park \nGPX Track: https://drive.google.com/file/d/1G-e2sWSdfzou5H2AHvDQf8kjFMTwJ_nw/view?usp=share_link\nAllTrails Map: Gaviota Peak-AllTrails \nTrailhead: Gaviota Peak Trailhead/Gaviota Hot Springs\nGaviota Peak Trailhead\, Gaviota Park Boundary\, Goleta\, CA 93117\nFrom Highway 101 N\, take exit 132 for CA-1. Turn right toward Gaviota Park Boundary\, then take another quick right onto Gaviota Park Boundary. Drive about 0.3 miles to the Gaviota Peak Trailhead. The State Park requires a $2 parking fee\, so bring cash. \nThe group will meet at the Gaviota Peak Trailhead at 9:15 AM for a prompt start at 9:30 AM. Please be on time to respect everyone’s schedule. Wear sturdy hiking boots or shoes\, and bring comfortable clothes for varying temperatures. Given the trail difficulty\, I recommend bringing at least 2-3L of water in a backpack so your hands are free for any scrambling or steep sections. \nNote: Rain or low attendance cancels the hike. \nGroup organizers assume no liability; hike at your own risk. By participating in this hike\, you agree to assume all risks and liability related to or resulting from this activity. Neither the group’s leaders nor any third party will be held liable for any injury\, loss\, or damage. Participation is based on an “at will” basis.
URL:https://healthypeoplehealthytrails.org/event/saturday-morning-hike-with-riley/
LOCATION:Gaviota Peak Trailhead\, Gaviota Park Boundary\, Goleta\, California\, 93117
CATEGORIES:Hike - Moderate Plus
ATTACH;FMTTYPE=image/jpeg:https://healthypeoplehealthytrails.org/wp-content/uploads/2018/04/9d1bf751-1ca8-4cfb-9661-cfe0c98a4fe4.jpg
ORGANIZER;CN="Mark Wilkinson":MAILTO:explore@sbtrails.org
GEO:34.5078444;-120.2191777
X-APPLE-STRUCTURED-LOCATION;VALUE=URI;X-ADDRESS=Gaviota Peak Trailhead Gaviota Park Boundary Goleta California 93117;X-APPLE-RADIUS=500;X-TITLE=Gaviota Park Boundary:geo:-120.2191777,34.5078444
END:VEVENT
END:VCALENDAR