BEGIN:VCALENDAR
VERSION:2.0
PRODID:-//Healthy People Healthy Trails - ECPv6.10.1.1//NONSGML v1.0//EN
CALSCALE:GREGORIAN
METHOD:PUBLISH
X-WR-CALNAME:Healthy People Healthy Trails
X-ORIGINAL-URL:https://healthypeoplehealthytrails.org
X-WR-CALDESC:Events for Healthy People Healthy Trails
REFRESH-INTERVAL;VALUE=DURATION:PT1H
X-Robots-Tag:noindex
X-PUBLISHED-TTL:PT1H
BEGIN:VTIMEZONE
TZID:America/Los_Angeles
BEGIN:DAYLIGHT
TZOFFSETFROM:-0800
TZOFFSETTO:-0700
TZNAME:PDT
DTSTART:20190310T100000
END:DAYLIGHT
BEGIN:STANDARD
TZOFFSETFROM:-0700
TZOFFSETTO:-0800
TZNAME:PST
DTSTART:20191103T090000
END:STANDARD
END:VTIMEZONE
BEGIN:VEVENT
DTSTART;TZID=America/Los_Angeles:20191123T090000
DTEND;TZID=America/Los_Angeles:20191123T110000
DTSTAMP:20260422T044955
CREATED:20190307T071122Z
LAST-MODIFIED:20191124T075136Z
UID:3792-1574499600-1574506800@healthypeoplehealthytrails.org
SUMMARY:Sierra Club Hike - Weekly on Saturdays
DESCRIPTION:Sierra Club Saturday Hike – Usually meets at 9 am at the Bank of America at the corner of Hope and State Streets. For more information see www.santabarbarahikes.com.
URL:https://healthypeoplehealthytrails.org/event/sierra-club-hike-weekly-on-saturdays-47/
CATEGORIES:Hike - Moderate
ATTACH;FMTTYPE=image/jpeg:https://healthypeoplehealthytrails.org/wp-content/uploads/2018/03/92c18b9f-3687-4427-9e57-e461b2ec61f5.jpg
END:VEVENT
END:VCALENDAR