BEGIN:VCALENDAR
VERSION:2.0
PRODID:-//Healthy People Healthy Trails - ECPv6.10.1.1//NONSGML v1.0//EN
CALSCALE:GREGORIAN
METHOD:PUBLISH
X-WR-CALNAME:Healthy People Healthy Trails
X-ORIGINAL-URL:https://healthypeoplehealthytrails.org
X-WR-CALDESC:Events for Healthy People Healthy Trails
REFRESH-INTERVAL;VALUE=DURATION:PT1H
X-Robots-Tag:noindex
X-PUBLISHED-TTL:PT1H
BEGIN:VTIMEZONE
TZID:America/Los_Angeles
BEGIN:DAYLIGHT
TZOFFSETFROM:-0800
TZOFFSETTO:-0700
TZNAME:PDT
DTSTART:20190310T100000
END:DAYLIGHT
BEGIN:STANDARD
TZOFFSETFROM:-0700
TZOFFSETTO:-0800
TZNAME:PST
DTSTART:20191103T090000
END:STANDARD
END:VTIMEZONE
BEGIN:VEVENT
DTSTART;TZID=America/Los_Angeles:20191124T090000
DTEND;TZID=America/Los_Angeles:20191124T110000
DTSTAMP:20260422T044407
CREATED:20190611T070703Z
LAST-MODIFIED:20191125T075128Z
UID:3800-1574586000-1574593200@healthypeoplehealthytrails.org
SUMMARY:Sierra Club Hike - Weekly on Sundays
DESCRIPTION:Sierra Club Sunday Hike – Usually meets at 9 am at the Bank of America at the corner of Hope and State Streets. For more information see www.santabarbarahikes.com.
URL:https://healthypeoplehealthytrails.org/event/sierra-club-hike-weekly-on-sundays-42/
CATEGORIES:Hike - Moderate
ATTACH;FMTTYPE=image/jpeg:https://healthypeoplehealthytrails.org/wp-content/uploads/2018/03/9e925207-64f2-48e8-8fee-ef46d0363d13.jpg
END:VEVENT
END:VCALENDAR