BEGIN:VCALENDAR
VERSION:2.0
PRODID:-//Healthy People Healthy Trails - ECPv6.10.1.1//NONSGML v1.0//EN
CALSCALE:GREGORIAN
METHOD:PUBLISH
X-WR-CALNAME:Healthy People Healthy Trails
X-ORIGINAL-URL:https://healthypeoplehealthytrails.org
X-WR-CALDESC:Events for Healthy People Healthy Trails
REFRESH-INTERVAL;VALUE=DURATION:PT1H
X-Robots-Tag:noindex
X-PUBLISHED-TTL:PT1H
BEGIN:VTIMEZONE
TZID:America/Los_Angeles
BEGIN:DAYLIGHT
TZOFFSETFROM:-0800
TZOFFSETTO:-0700
TZNAME:PDT
DTSTART:20190310T100000
END:DAYLIGHT
BEGIN:STANDARD
TZOFFSETFROM:-0700
TZOFFSETTO:-0800
TZNAME:PST
DTSTART:20191103T090000
END:STANDARD
END:VTIMEZONE
BEGIN:VEVENT
DTSTART;TZID=America/Los_Angeles:20191122T181500
DTEND;TZID=America/Los_Angeles:20191122T201500
DTSTAMP:20260424T012208
CREATED:20190307T070627Z
LAST-MODIFIED:20191123T075124Z
UID:3791-1574446500-1574453700@healthypeoplehealthytrails.org
SUMMARY:Sierra Club Social Hike - Weekly on Fridays
DESCRIPTION:Sierra Club Hike – Friday\, 6:15 PM – Meet at the Santa Barbara Mission\, corner of Laguna & Los Olivos Streets. This is a moderate social hike\, usually 1 to 2 hours round trip. Bring water. 
URL:https://healthypeoplehealthytrails.org/event/sierra-club-social-hike-weekly-on-fridays-46/
LOCATION:SB Mission\, Laguna & Los Olivos St\, Santa Barbara\, CA\, SB Mission\, Laguna & Los Olivos St\, Santa Barbara\, CA\, CA\, United States
CATEGORIES:Hike - Moderate
ATTACH;FMTTYPE=image/jpeg:https://healthypeoplehealthytrails.org/wp-content/uploads/2017/08/bcdceb8c-e76f-4544-b3c0-70d6aa699dbb.jpg
END:VEVENT
END:VCALENDAR