BEGIN:VCALENDAR
VERSION:2.0
PRODID:-//Healthy People Healthy Trails - ECPv6.10.1.1//NONSGML v1.0//EN
CALSCALE:GREGORIAN
METHOD:PUBLISH
X-WR-CALNAME:Healthy People Healthy Trails
X-ORIGINAL-URL:https://healthypeoplehealthytrails.org
X-WR-CALDESC:Events for Healthy People Healthy Trails
REFRESH-INTERVAL;VALUE=DURATION:PT1H
X-Robots-Tag:noindex
X-PUBLISHED-TTL:PT1H
BEGIN:VTIMEZONE
TZID:America/Los_Angeles
BEGIN:DAYLIGHT
TZOFFSETFROM:-0800
TZOFFSETTO:-0700
TZNAME:PDT
DTSTART:20250309T100000
END:DAYLIGHT
BEGIN:STANDARD
TZOFFSETFROM:-0700
TZOFFSETTO:-0800
TZNAME:PST
DTSTART:20251102T090000
END:STANDARD
END:VTIMEZONE
BEGIN:VEVENT
DTSTART;TZID=America/Los_Angeles:20250607T090000
DTEND;TZID=America/Los_Angeles:20250607T090000
DTSTAMP:20260423T082914
CREATED:20250601T211507Z
LAST-MODIFIED:20250601T213025Z
UID:7381-1749286800-1749286800@healthypeoplehealthytrails.org
SUMMARY:Trailpalooza 2025 Outdoor Festival
DESCRIPTION:The event is organized by Santa Maria Valley Open Space\, which aims to establish public trails in a natural setting for hiking\, cycling\, and horseback riding. These trails will allow passive and spontaneous access and serve the Santa Maria Valley and surrounding areas. \nAttendees can register for a 5\, 10\, or 15-mile trail run/walk or join the mountain bike race on a new short track that is full of jumps and technical features. \nFollowing the races\, attendees can indulge in local cuisine and entertainment\, all in support of Santa Maria Valley Open Space\, a nonprofit dependent on contributions for trail upkeep and expansion. \nSaturday Schedule \n\n9 a.m. to noonish – Trail Run/Walk (Choose your distance – 5\, 10 or 15 miles)\n11 a.m. to 4 p.m. – Mountain Bike Racing\n5 p.m. Close\n\nVisit www.smvos.org to find links for race registration. Entry is $20 per carload\, so attendees are encouraged to bring their family and friends. All youth under the age of 18 get into the festival for free. Participants who register to participate in either the run or bike race will not have to pay the $20 car fee. \nGetting There \nTrailpalooza will be held from 9 a.m. to 5 p.m. at the Newlove Picnic Grounds at Solomon Hills\, near Orcutt. From Santa Maria\, take Highway 101 southbound 0.8 miles past the Clark Avenue exit to a small marker. Take the road to the right and follow it up the hill to the Newlove Picnic Grounds on Solomon Hill. \n 
URL:https://healthypeoplehealthytrails.org/event/trailpalooza-2025-outdoor-festival/
LOCATION:Newlove Picnic Grounds\, 1555 Orcutt Hill Rd\, Orcutt\, 93455\, United States
CATEGORIES:Fun
ATTACH;FMTTYPE=image/jpeg:https://healthypeoplehealthytrails.org/wp-content/uploads/2024/04/a62dcfa2-105b-4522-b9b2-3475efce4506.jpg
GEO:34.8340661;-120.4045902
X-APPLE-STRUCTURED-LOCATION;VALUE=URI;X-ADDRESS=Newlove Picnic Grounds 1555 Orcutt Hill Rd Orcutt 93455 United States;X-APPLE-RADIUS=500;X-TITLE=1555 Orcutt Hill Rd:geo:-120.4045902,34.8340661
END:VEVENT
END:VCALENDAR