BEGIN:VCALENDAR
VERSION:2.0
PRODID:-//Healthy People Healthy Trails - ECPv6.10.1.1//NONSGML v1.0//EN
CALSCALE:GREGORIAN
METHOD:PUBLISH
X-WR-CALNAME:Healthy People Healthy Trails
X-ORIGINAL-URL:https://healthypeoplehealthytrails.org
X-WR-CALDESC:Events for Healthy People Healthy Trails
REFRESH-INTERVAL;VALUE=DURATION:PT1H
X-Robots-Tag:noindex
X-PUBLISHED-TTL:PT1H
BEGIN:VTIMEZONE
TZID:America/Los_Angeles
BEGIN:DAYLIGHT
TZOFFSETFROM:-0800
TZOFFSETTO:-0700
TZNAME:PDT
DTSTART:20240310T100000
END:DAYLIGHT
BEGIN:STANDARD
TZOFFSETFROM:-0700
TZOFFSETTO:-0800
TZNAME:PST
DTSTART:20241103T090000
END:STANDARD
END:VTIMEZONE
BEGIN:VEVENT
DTSTART;TZID=America/Los_Angeles:20240406T093000
DTEND;TZID=America/Los_Angeles:20240406T120000
DTSTAMP:20260423T144351
CREATED:20240404T135155Z
LAST-MODIFIED:20240407T065320Z
UID:5554-1712395800-1712404800@healthypeoplehealthytrails.org
SUMMARY:Wildlife Flower Tour at the Wildlife Refuge
DESCRIPTION:Join us for an adventure at Coreopsis Hill in the Guadalupe-Nipomo Dunes on Saturday\, April 6\, 2024\, sponsored by The Guadalupe-Nipomo Dunes Center and the US Fish and Wildlife Service\, led by Mark Skinner and Ray Segovia. Starting at 9:00 AM (please arrive between 8:45 and 9:00)\, this casual hike will lead us through the dunes to the hill’s peak\, with a 300 ft elevation gain. Expect a moderate 3-hour round-trip with abundant wildflowers! Dress in layers\, bring water\, snacks\, and your ‘Dune Mother’s Wildflower Guide’ by Dr. Malcolm McLeod. Long pants and closed shoes are recommended for coastal dune scrub habitat\, mindful of poison oak and ticks. For more info\, email admin@dunescenter.org. Rain cancels. Let’s explore nature together! \n \nParking: We will have people posted at the entrance of the USFWS fenced road to direct parking. The gate will be open around 8:30 am. Please do not park on Oso Flaco Lake Road near the gate as there is not much room and it could be hazardous. There is room to park along the USFWS access road. Restrooms are available at the Oso Flaco Lake State Park lot\, which is another ¾ miles west of Beigle Road at the end of Oso Flaco Lake Road (there are no restrooms along the hike route). Note: Pets\, smoking or tobacco products\, or alcohol are not allowed on the Refuge\, including the parking area\, or other State Parks and Private properties accessed during the hike. Pets may not be left in cars in the parking areas. \n \nRegister today: https://https://square.link/u/9xIVeKsa \n \nEvent Poster \n﻿
URL:https://healthypeoplehealthytrails.org/event/wildlife-flower-tour-at-the-wildlife-refuge/
LOCATION:Guadalupe-Nipomo Dunes National Wildlife Refuge\, 35.027887\, -120.615849\, CA\, United States
CATEGORIES:Nature Walk
GEO:35.027887;-120.615849
X-APPLE-STRUCTURED-LOCATION;VALUE=URI;X-ADDRESS=Guadalupe-Nipomo Dunes National Wildlife Refuge 35.027887 -120.615849 CA United States;X-APPLE-RADIUS=500;X-TITLE=35.027887\, -120.615849:geo:-120.615849,35.027887
END:VEVENT
END:VCALENDAR