BEGIN:VCALENDAR
VERSION:2.0
PRODID:-//Healthy People Healthy Trails - ECPv6.10.1.1//NONSGML v1.0//EN
CALSCALE:GREGORIAN
METHOD:PUBLISH
X-WR-CALNAME:Healthy People Healthy Trails
X-ORIGINAL-URL:https://healthypeoplehealthytrails.org
X-WR-CALDESC:Events for Healthy People Healthy Trails
REFRESH-INTERVAL;VALUE=DURATION:PT1H
X-Robots-Tag:noindex
X-PUBLISHED-TTL:PT1H
BEGIN:VTIMEZONE
TZID:America/Los_Angeles
BEGIN:DAYLIGHT
TZOFFSETFROM:-0800
TZOFFSETTO:-0700
TZNAME:PDT
DTSTART:20260308T100000
END:DAYLIGHT
BEGIN:STANDARD
TZOFFSETFROM:-0700
TZOFFSETTO:-0800
TZNAME:PST
DTSTART:20261101T090000
END:STANDARD
END:VTIMEZONE
BEGIN:VEVENT
DTSTART;TZID=America/Los_Angeles:20260424T083000
DTEND;TZID=America/Los_Angeles:20260424T103000
DTSTAMP:20260424T025256
CREATED:20260404T030003Z
LAST-MODIFIED:20260404T031540Z
UID:10003859-1777019400-1777026600@healthypeoplehealthytrails.org
SUMMARY:Friday Bird Walk – Lake Los Carneros
DESCRIPTION:Lake Los Carneros (LLC) is one of Goleta’s premier birding hot spots.  Its 25-acre lake and varied wooded and grassland habitats make LLC a wonderful place to visit in the middle of Goleta. Once a part of Rancho La Patera\, it is now a Mecca for anyone wanting to get in touch with nature. \n\n\n\n\nFriday\, April 24\, 2026 ~ 8:30 am – 10:30 am \n\n\n\n\nTarget Birds:\n\nWater Birds\nSong Birds\n& Others\n\nDirections:\n\nFrom Hwy 101 take Exit 107 – Los Carneros Road\nHead towards the mountains\nProceed straight through the roundabout\nAfter the roundabout\, the Goleta Railroad Depot will be on the right.\nTake the right into the driveway between the depot and the Fire Station\nWe will meet in the parking lot behind the fire station\n\nMap Here – or – Google Map \nOther Information:\n\nBring water & a snack\nWear comfortable shoes\nBinoculars are a must (borrow ours if you need to)\nSpotting scopes are useful\n\nTrip Coordinator:\n\nKarl Weis\nContact Karl for information or questions
URL:https://healthypeoplehealthytrails.org/event/friday-bird-walk-llc/
LOCATION:Lake Los Carneros Natural and Historic Preserve\, N Los Carneros Rd\, Golets\, CA\, 93117
CATEGORIES:Bird Walk
ATTACH;FMTTYPE=image/jpeg:https://healthypeoplehealthytrails.org/wp-content/uploads/2017/09/bbb5450a-c3d7-4ba2-acc4-29a816096380.jpg
ORGANIZER;CN="Karl Weis":MAILTO:karljweis@gmail.com
GEO:34.4416058;-119.8529697
X-APPLE-STRUCTURED-LOCATION;VALUE=URI;X-ADDRESS=Lake Los Carneros Natural and Historic Preserve N Los Carneros Rd Golets CA 93117;X-APPLE-RADIUS=500;X-TITLE=N Los Carneros Rd:geo:-119.8529697,34.4416058
END:VEVENT
BEGIN:VEVENT
DTSTART;TZID=America/Los_Angeles:20260424T093000
DTEND;TZID=America/Los_Angeles:20260424T120000
DTSTAMP:20260424T025256
CREATED:20260404T024254Z
LAST-MODIFIED:20260404T024254Z
UID:10003857-1777023000-1777032000@healthypeoplehealthytrails.org
SUMMARY:Sierra Club Hike - Friday Mornings
DESCRIPTION:We meet at the fountain in front of the mission at 9:30 AM in the morning for the morning hike. These hikes are on the front country trails behind Santa Barbara and Montecito. Dress appropriately with hiking boots\, comfortable clothes and bring at least a liter of water in your backpack or fanny pack. Bring sunscreen and bug repellent when necessary. \nThe morning hike leaves at 9:30 AM SHARP and we get back between 11:30 AM and noon. There are no dogs allowed on the hikes for safety concerns. The hike is approximately 4 miles\, 2 miles up and 2 miles back. These hikes are appropriate for beginners in good health. We will carpool to the hike from the mission. If you decide to ride with someone\, please be kind enough to give the driver a dollar per person for their trouble and gas. \nFor more information\, contact the leader Al Sladek at alsladek@gmail.com
URL:https://healthypeoplehealthytrails.org/event/sierra-club-hike-friday-mornings-37/
LOCATION:SB Mission\, Laguna & Los Olivos St\, Santa Barbara\, CA\, SB Mission\, Laguna & Los Olivos St\, Santa Barbara\, CA\, CA\, United States
CATEGORIES:Hike - Moderate
ATTACH;FMTTYPE=image/jpeg:https://healthypeoplehealthytrails.org/wp-content/uploads/2025/02/bcdceb8c-e76f-4544-b3c0-70d6aa699dbb.jpg
ORGANIZER;CN="Al Sladek":MAILTO:alsladek@gmail.com
END:VEVENT
END:VCALENDAR