BEGIN:VCALENDAR
VERSION:2.0
PRODID:-//Healthy People Healthy Trails - ECPv6.10.1.1//NONSGML v1.0//EN
CALSCALE:GREGORIAN
METHOD:PUBLISH
X-WR-CALNAME:Healthy People Healthy Trails
X-ORIGINAL-URL:https://healthypeoplehealthytrails.org
X-WR-CALDESC:Events for Healthy People Healthy Trails
REFRESH-INTERVAL;VALUE=DURATION:PT1H
X-Robots-Tag:noindex
X-PUBLISHED-TTL:PT1H
BEGIN:VTIMEZONE
TZID:America/Los_Angeles
BEGIN:DAYLIGHT
TZOFFSETFROM:-0800
TZOFFSETTO:-0700
TZNAME:PDT
DTSTART:20260308T100000
END:DAYLIGHT
BEGIN:STANDARD
TZOFFSETFROM:-0700
TZOFFSETTO:-0800
TZNAME:PST
DTSTART:20261101T090000
END:STANDARD
END:VTIMEZONE
BEGIN:VEVENT
DTSTART;TZID=America/Los_Angeles:20260424T083000
DTEND;TZID=America/Los_Angeles:20260424T103000
DTSTAMP:20260421T031007
CREATED:20260404T030003Z
LAST-MODIFIED:20260404T031540Z
UID:10003859-1777019400-1777026600@healthypeoplehealthytrails.org
SUMMARY:Friday Bird Walk – Lake Los Carneros
DESCRIPTION:Lake Los Carneros (LLC) is one of Goleta’s premier birding hot spots.  Its 25-acre lake and varied wooded and grassland habitats make LLC a wonderful place to visit in the middle of Goleta. Once a part of Rancho La Patera\, it is now a Mecca for anyone wanting to get in touch with nature. \n\n\n\n\nFriday\, April 24\, 2026 ~ 8:30 am – 10:30 am \n\n\n\n\nTarget Birds:\n\nWater Birds\nSong Birds\n& Others\n\nDirections:\n\nFrom Hwy 101 take Exit 107 – Los Carneros Road\nHead towards the mountains\nProceed straight through the roundabout\nAfter the roundabout\, the Goleta Railroad Depot will be on the right.\nTake the right into the driveway between the depot and the Fire Station\nWe will meet in the parking lot behind the fire station\n\nMap Here – or – Google Map \nOther Information:\n\nBring water & a snack\nWear comfortable shoes\nBinoculars are a must (borrow ours if you need to)\nSpotting scopes are useful\n\nTrip Coordinator:\n\nKarl Weis\nContact Karl for information or questions
URL:https://healthypeoplehealthytrails.org/event/friday-bird-walk-llc/
LOCATION:Lake Los Carneros Natural and Historic Preserve\, N Los Carneros Rd\, Golets\, CA\, 93117
CATEGORIES:Bird Walk
ATTACH;FMTTYPE=image/jpeg:https://healthypeoplehealthytrails.org/wp-content/uploads/2017/09/bbb5450a-c3d7-4ba2-acc4-29a816096380.jpg
ORGANIZER;CN="Karl Weis":MAILTO:karljweis@gmail.com
GEO:34.4416058;-119.8529697
X-APPLE-STRUCTURED-LOCATION;VALUE=URI;X-ADDRESS=Lake Los Carneros Natural and Historic Preserve N Los Carneros Rd Golets CA 93117;X-APPLE-RADIUS=500;X-TITLE=N Los Carneros Rd:geo:-119.8529697,34.4416058
END:VEVENT
BEGIN:VEVENT
DTSTART;TZID=America/Los_Angeles:20260425T090000
DTEND;TZID=America/Los_Angeles:20260425T113000
DTSTAMP:20260421T031007
CREATED:20260406T210105Z
LAST-MODIFIED:20260406T210105Z
UID:10003880-1777107600-1777116600@healthypeoplehealthytrails.org
SUMMARY:Los Flores Ranch - YIKE
DESCRIPTION:You will be surrounded by the beauty of Los Flores Ranch Park while on a moderate 3-mile hike. Yoga will be the focus along the trail as you energize the body\, relieve tightness\, and strengthen major hiking muscles. Please bring water and a packable mat. Park in the main parking lot and walk up to meet at the Visitors Center \nREGISTER AT WWW. CITYOFSANTAMARIA. ORG/REGISTER \nPlease park and meet at the Los Flores Ranch visitors center\, 6271 Dominion Rd. \nFor more information\, please contact the City of Santa Maria Recreation and Parks Department at (805) 925-0951 ext. 2260 \n  \nLos Flores Ranch Park is a 1778-acre open space in the Santa Maria Valley that offers an array of outdoor activities to visitors.
URL:https://healthypeoplehealthytrails.org/event/los-flores-ranch-yike/
LOCATION:6271 Dominion Rd Santa Maria CA 93455\, 6271 Dominion Rd Santa Maria CA 93455\, United States
CATEGORIES:Bird Walk
ATTACH;FMTTYPE=image/jpeg:https://healthypeoplehealthytrails.org/wp-content/uploads/2023/03/330d44ca-b281-463e-ab79-7a4b601648b8.jpg
END:VEVENT
BEGIN:VEVENT
DTSTART;TZID=America/Los_Angeles:20260501T083000
DTEND;TZID=America/Los_Angeles:20260501T103000
DTSTAMP:20260421T031007
CREATED:20260404T030912Z
LAST-MODIFIED:20260404T030912Z
UID:10003860-1777624200-1777631400@healthypeoplehealthytrails.org
SUMMARY:Friday Bird Walk – Goleta Beach - Atascadero Estuary
DESCRIPTION:The Goleta Beach / Goleta Slough / Atascadero Creek area is one of the go-to hot spots in Goleta for birding. The eBird hotspot for the area boasts 232 species. Waterfowl\, shorebirds\, waders\, raptors\, gulls\, and other species are not uncommon in their season. Goleta Slough is the main drainage for many of the Goleta Valley / western Santa Barbara area creeks\, providing waterways for birds to move up and down from the Santa Barbara mountains. \n\n\n\n\nFriday\, May 1\, 2026 ~ 8:30 am – 10:30 am \n\n\n\n\n\n\nTarget Birds:\n\nHerons\nEgrets\nOsprey\nKingfisher\n& Others\n\nDirections:\nFrom the South \n\nTraveling North Bound on Hwy101\nTake Hwy 217 Airport UCSB (Exit 104B)\nFrom Hwy 217 take Exit 1: Santspit Road\nTurn left onto Sandspit Road\n\nFrom the North \n\nTraveling South Bound on Hwy101\nTake the Fairview Avenue off ramp (Exit 105)\nTurn right on Fairview\, head towards the ocean\nRoad changes name to Fowler\, then Moffett\, and then Sandspit Road\n\nThen for everyone \n\nSandspit Road turns left and continues under the Hwy 217 overpass\nTurn right into Goleta Beach Park and cross the bridge\nTurn left at the stop sign\nPark in the parking lot that’s west (UCSB side) of The Ellwood Restaurant\nWe will meet in the parking lot\n\nMap Here – or – Google Map \nOther Information:\n\nBring water  & a snack\nWear comfortable shoes\nBinoculars are a must (borrow ours if you need to)\nSpotting scopes are useful\n\nTrip Coordinator:\n\nKarl Weis\nContact Karl for information or questions
URL:https://healthypeoplehealthytrails.org/event/friday-bird-walk-goleta-beach/
LOCATION:Goleta Beach County Park\, Goleta Beach County Park\, United States
CATEGORIES:Bird Walk
ATTACH;FMTTYPE=image/jpeg:https://healthypeoplehealthytrails.org/wp-content/uploads/2017/09/bbb5450a-c3d7-4ba2-acc4-29a816096380.jpg
ORGANIZER;CN="Karl Weis":MAILTO:karljweis@gmail.com
END:VEVENT
BEGIN:VEVENT
DTSTART;TZID=America/Los_Angeles:20260509T090000
DTEND;TZID=America/Los_Angeles:20260509T090000
DTSTAMP:20260421T031007
CREATED:20260406T140402Z
LAST-MODIFIED:20260406T142304Z
UID:10003867-1778317200-1778317200@healthypeoplehealthytrails.org
SUMMARY:Botanic Garden - Bird Walk @ Elings Park
DESCRIPTION:The Garden is hosting a yearlong series of free native plant meetups at Elings Park\, offering creative\, educational\, and family-friendly experiences each month. Participants can enjoy activities ranging from plein air painting and meditative walks to birding\, gardening\, storytelling\, and even biking and skating. You’ll also learn about our native plant restoration project at the Park. Registration is not available — simply arrive at the designated location on the day of the event.\nDetails: \n\nWhat: Welcome peak migration season with a guided birding walk through Elings Park. Learn bird identification\, birdsong basics\, and local avian ecology while exploring restored habitat with experts.\nWhere: Meet at the top parking lot.\nWhat to bring: Binoculars (loaners may be available)\, water\, and sun protection.\nGarden leaders: Scot Pipkin & Zach Phillips\, Ph.D.\n\nLocation:\nElings Park – 1298 Las Positas Road\, Santa Barbara\, CA 93105. The group will meet in varying locations for each meetup. \nPlease reference this map to guide you.\nThank you to our partners:\nBoom Boom Bike Room | Elings Park | Latino Outdoors | PALMA Colectiva | Santa Barbara Public Library | S-C-A-P-E
URL:https://healthypeoplehealthytrails.org/event/botanic-garden-bird-walk-elings-park/
LOCATION:Elings Park\, Elings Park\, United States
CATEGORIES:Bird Walk
ATTACH;FMTTYPE=image/jpeg:https://healthypeoplehealthytrails.org/wp-content/uploads/2018/06/d2d42418-ed6d-451f-84da-f4e49b9af78c.jpg
END:VEVENT
END:VCALENDAR