BEGIN:VCALENDAR
VERSION:2.0
PRODID:-//Healthy People Healthy Trails - ECPv6.10.1.1//NONSGML v1.0//EN
CALSCALE:GREGORIAN
METHOD:PUBLISH
X-WR-CALNAME:Healthy People Healthy Trails
X-ORIGINAL-URL:https://healthypeoplehealthytrails.org
X-WR-CALDESC:Events for Healthy People Healthy Trails
REFRESH-INTERVAL;VALUE=DURATION:PT1H
X-Robots-Tag:noindex
X-PUBLISHED-TTL:PT1H
BEGIN:VTIMEZONE
TZID:America/Los_Angeles
BEGIN:DAYLIGHT
TZOFFSETFROM:-0800
TZOFFSETTO:-0700
TZNAME:PDT
DTSTART:20260308T100000
END:DAYLIGHT
BEGIN:STANDARD
TZOFFSETFROM:-0700
TZOFFSETTO:-0800
TZNAME:PST
DTSTART:20261101T090000
END:STANDARD
END:VTIMEZONE
BEGIN:VEVENT
DTSTART;TZID=America/Los_Angeles:20260428T140000
DTEND;TZID=America/Los_Angeles:20260428T160000
DTSTAMP:20260421T014832
CREATED:20260406T184143Z
LAST-MODIFIED:20260406T184442Z
UID:10003877-1777384800-1777392000@healthypeoplehealthytrails.org
SUMMARY:La Purísima Mission Trail Hike
DESCRIPTION:Healthy People Healthy Trails: Join Us for La Purísima Mission Trail Hike!\nReady to get outside and explore? Come on an in-person adventure along the beautiful La Purísima Mission Trail. Bring your friends\, your pet\, or come solo\, and let’s make some great memories on the trail! \nYou can park in the parking lot for $6.00 or outside of the lot across the street near the agricultural fields. Meet us in front of the La Purísima Mission Visitor Center to check in at our registration table\, and make sure to bring plenty of water\, sunscreen\, snacks\, and walking shoes! \nIf you would like to learn more about the history of the mission\, as well as learn about other upcoming events\, please navigate to the following website: La Purísima Mission State Historic Park \nMap: https://healthypeoplehealthytrails.org/maps/mission-la-purisima-loop-trail.pdf \nFor more information\, resources\, and tips\, visit HealthyPeopleHealthyTrails.org. Tag us in your photos and follow us: @HealthyPeopleHealthyTrails \n\nOrganizer: Santa Barbara County Nutrition Services
URL:https://healthypeoplehealthytrails.org/event/la-purisima-mission-trail/
LOCATION:La Purísima Mission State Historic Park\, 2295 Purisima Rd\, Lompoc\, CA 93436\, La Purísima Mission State Historic Park\, 2295 Purisima Rd\, Lompoc\, CA 93436\, United States
CATEGORIES:Hike - Moderate
ATTACH;FMTTYPE=image/png:https://healthypeoplehealthytrails.org/wp-content/uploads/2025/03/sbc-public-health-300.png
END:VEVENT
BEGIN:VEVENT
DTSTART;TZID=America/Los_Angeles:20260516T090000
DTEND;TZID=America/Los_Angeles:20260516T113000
DTSTAMP:20260421T014832
CREATED:20260319T170614Z
LAST-MODIFIED:20260404T023956Z
UID:10003854-1778922000-1778931000@healthypeoplehealthytrails.org
SUMMARY:Monarch Butterfly Walk!
DESCRIPTION:Join the Land Trust for Santa Barbara County on a casual walk through monarch butterfly habitat! \nWestern monarch butterflies come to Ellwood Mesa\, Goleta\, and other butterfly groves in coastal California\, where they spend the winter between November and February each year. Learn about their life’s journey while enjoying beautiful coastal and mountain views. After visiting the eucalyptus grove\, we’ll follow the footpaths through the Ellwood Mesa and learn about the coastal grasslands while keeping our eyes peeled for birds and other wildlife. \nWe’ll be walking on level to slightly hilly terrain. Total walking mileage for this event is 2-3 miles. No bathrooms or water are available on site. Street parking is available on Coronado Drive. Bringing a pair of binoculars is encouraged! \nCoronado Butterfly Preserve\, The Land Trust for Santa Barbara County Goleta\, CA \nSaturday\, May 16\, from 9 am to 11:30 am \nGet outside with us! The Land Trust offers a number of free\, guided public hikes and other outdoor experiences around Santa Barbara County. Join us for a volunteer day\, explore beautiful places\, and learn how you can support conservation work in your community!
URL:https://healthypeoplehealthytrails.org/event/monarch-butterfly-walk/
LOCATION:Coronado Drive  Goleta\, CA 93117\, CA\, 93117\, United States
CATEGORIES:Hike - Moderate
ATTACH;FMTTYPE=image/jpeg:https://healthypeoplehealthytrails.org/wp-content/uploads/2017/10/38467bf2-c6fe-4038-b759-4322ebf41581.jpg
GEO:34.425535600403;-119.88953100968
END:VEVENT
END:VCALENDAR