BEGIN:VCALENDAR
VERSION:2.0
PRODID:-//Healthy People Healthy Trails - ECPv6.10.1.1//NONSGML v1.0//EN
CALSCALE:GREGORIAN
METHOD:PUBLISH
X-WR-CALNAME:Healthy People Healthy Trails
X-ORIGINAL-URL:https://healthypeoplehealthytrails.org
X-WR-CALDESC:Events for Healthy People Healthy Trails
REFRESH-INTERVAL;VALUE=DURATION:PT1H
X-Robots-Tag:noindex
X-PUBLISHED-TTL:PT1H
BEGIN:VTIMEZONE
TZID:America/Los_Angeles
BEGIN:DAYLIGHT
TZOFFSETFROM:-0800
TZOFFSETTO:-0700
TZNAME:PDT
DTSTART:20260308T100000
END:DAYLIGHT
BEGIN:STANDARD
TZOFFSETFROM:-0700
TZOFFSETTO:-0800
TZNAME:PST
DTSTART:20261101T090000
END:STANDARD
END:VTIMEZONE
BEGIN:VEVENT
DTSTART;TZID=America/Los_Angeles:20260426T133000
DTEND;TZID=America/Los_Angeles:20260426T133000
DTSTAMP:20260423T094923
CREATED:20260404T045013Z
LAST-MODIFIED:20260422T201032Z
UID:10003862-1777210200-1777210200@healthypeoplehealthytrails.org
SUMMARY:Healthy People Healthy Trails Month Recognition
DESCRIPTION:We will meet at the Earth Day Festival on April 26 at 1:30 pm for an event recognizing the Healthy People Healthy Trails initiative. The critical collaboration is celebrating over a decade of dedicated service to the residents of Santa Barbara County\, fostering a unique and vital alliance between the healthcare community\, land management agencies\, and recreation organizations. \nAssemblymember Gregg Hart will present a timely resolution issued by Senator Monique Limon and Assemblymember Gregg Hart recognizing Healthy People Healthy Trails Month\,  which centralizes community resources and provides a streamlined digital platform for residents to discover outdoor events\, educational opportunities\, and cross-agency programs that celebrate our natural heritage. \nLocation of the presentation at the Earth Day Festival to be in the open space south of the Elected Officials Booth (334) and east of the Santa Barbara Audubon Society Booth (354). Click the link to see the map. \n \n 
URL:https://healthypeoplehealthytrails.org/event/assemblymember-gregg-hart-event/
LOCATION:Alameda Park\, Santa Barbara\, CA\, 93101
CATEGORIES:Fun
ATTACH;FMTTYPE=image/jpeg:https://healthypeoplehealthytrails.org/wp-content/uploads/2026/04/g-hart-300x300-1.jpg
ORGANIZER;CN="Mark Wilkinson":MAILTO:explore@sbtrails.org
GEO:34.420334;-119.7107494
END:VEVENT
END:VCALENDAR